BEGIN:VCALENDAR
VERSION:2.0
PRODID:-//Association d&#039;autistes autonomes - ECPv6.15.20//NONSGML v1.0//EN
CALSCALE:GREGORIAN
METHOD:PUBLISH
X-ORIGINAL-URL:https://a-cube.ch
X-WR-CALDESC:Évènements pour Association d&#039;autistes autonomes
REFRESH-INTERVAL;VALUE=DURATION:PT1H
X-Robots-Tag:noindex
X-PUBLISHED-TTL:PT1H
BEGIN:VTIMEZONE
TZID:Europe/Zurich
BEGIN:DAYLIGHT
TZOFFSETFROM:+0100
TZOFFSETTO:+0200
TZNAME:CEST
DTSTART:20240331T010000
END:DAYLIGHT
BEGIN:STANDARD
TZOFFSETFROM:+0200
TZOFFSETTO:+0100
TZNAME:CET
DTSTART:20241027T010000
END:STANDARD
BEGIN:DAYLIGHT
TZOFFSETFROM:+0100
TZOFFSETTO:+0200
TZNAME:CEST
DTSTART:20250330T010000
END:DAYLIGHT
BEGIN:STANDARD
TZOFFSETFROM:+0200
TZOFFSETTO:+0100
TZNAME:CET
DTSTART:20251026T010000
END:STANDARD
BEGIN:DAYLIGHT
TZOFFSETFROM:+0100
TZOFFSETTO:+0200
TZNAME:CEST
DTSTART:20260329T010000
END:DAYLIGHT
BEGIN:STANDARD
TZOFFSETFROM:+0200
TZOFFSETTO:+0100
TZNAME:CET
DTSTART:20261025T010000
END:STANDARD
END:VTIMEZONE
BEGIN:VEVENT
DTSTART;TZID=Europe/Zurich:20250407T180000
DTEND;TZID=Europe/Zurich:20250407T193000
DTSTAMP:20260421T204223
CREATED:20250128T095040Z
LAST-MODIFIED:20250128T095040Z
UID:2437-1744048800-1744054200@a-cube.ch
SUMMARY:Groupe d'écoute Lausanne
DESCRIPTION:Les groupes d’écoutes sont des rencontres entre personnes autistes afin d’échanger sur la différence. Ces groupes d’entraide autogérés sont des groupes de personnes avec autisme qui décident de se réunir pour partager leur expérience et se soutenir.
URL:https://a-cube.ch/event/groupe-decoute-lausanne-12/
LOCATION:Locaux de Bénévolat Vaud\, Av. Louis-Ruchonnet 1\, Lausanne\, 1003\, Suisse
CATEGORIES:Groupes d'écoute,Les sorties de Ashok,Valais,Vaud
END:VEVENT
BEGIN:VEVENT
DTSTART;TZID=Europe/Zurich:20250407T180000
DTEND;TZID=Europe/Zurich:20250407T193000
DTSTAMP:20260421T204223
CREATED:20250224T194946Z
LAST-MODIFIED:20250411T070307Z
UID:2449-1744048800-1744054200@a-cube.ch
SUMMARY:Groupe d'écoute Sion -> reporté au 28 avril
DESCRIPTION:Annulé et reporté au 28 avril. Les groupes d’écoutes sont des rencontres entre personnes autistes afin d’échanger sur la différence. Ces groupes d’entraide autogérés sont des groupes de personnes avec autisme qui décident de se réunir pour partager leur expérience et se soutenir.
URL:https://a-cube.ch/event/groupe-decoute-sion-24/
LOCATION:Sion\, Rue des Tanneries 4\, Sion\, 1950\, Suisse
CATEGORIES:Groupes d'écoute,Valais
ORGANIZER;CN="Artemis (Diane)":MAILTO:groupesion@a-cube.ch
END:VEVENT
END:VCALENDAR