BEGIN:VCALENDAR
VERSION:2.0
PRODID:-//Association d&#039;autistes autonomes - ECPv6.15.20//NONSGML v1.0//EN
CALSCALE:GREGORIAN
METHOD:PUBLISH
X-ORIGINAL-URL:https://a-cube.ch
X-WR-CALDESC:Évènements pour Association d&#039;autistes autonomes
REFRESH-INTERVAL;VALUE=DURATION:PT1H
X-Robots-Tag:noindex
X-PUBLISHED-TTL:PT1H
BEGIN:VTIMEZONE
TZID:Europe/Zurich
BEGIN:DAYLIGHT
TZOFFSETFROM:+0100
TZOFFSETTO:+0200
TZNAME:CEST
DTSTART:20230326T010000
END:DAYLIGHT
BEGIN:STANDARD
TZOFFSETFROM:+0200
TZOFFSETTO:+0100
TZNAME:CET
DTSTART:20231029T010000
END:STANDARD
BEGIN:DAYLIGHT
TZOFFSETFROM:+0100
TZOFFSETTO:+0200
TZNAME:CEST
DTSTART:20240331T010000
END:DAYLIGHT
BEGIN:STANDARD
TZOFFSETFROM:+0200
TZOFFSETTO:+0100
TZNAME:CET
DTSTART:20241027T010000
END:STANDARD
BEGIN:DAYLIGHT
TZOFFSETFROM:+0100
TZOFFSETTO:+0200
TZNAME:CEST
DTSTART:20250330T010000
END:DAYLIGHT
BEGIN:STANDARD
TZOFFSETFROM:+0200
TZOFFSETTO:+0100
TZNAME:CET
DTSTART:20251026T010000
END:STANDARD
END:VTIMEZONE
BEGIN:VEVENT
DTSTART;TZID=Europe/Zurich:20241109T160000
DTEND;TZID=Europe/Zurich:20241109T173000
DTSTAMP:20260422T134458
CREATED:20240925T081700Z
LAST-MODIFIED:20241108T091023Z
UID:2361-1731168000-1731173400@a-cube.ch
SUMMARY:Annulé ! - Groupe d'écoute Genève - Annulé !
DESCRIPTION:Annulé – Le groupe du 9 nov. est exceptionnellement annulé. Nous vous retrouverons le 23 nov. \n  \nLes groupes d’écoutes sont des rencontres entre personnes autistes afin d’échanger sur la différence. Ces groupes d’entraide autogérés sont des groupes de personnes avec autisme qui décident de se réunir pour partager leur expérience et se soutenir. \nAccès à Autisme Genève: avancez dans la cour au No 15. En face de vous\, entrez par la porte en verre qui se trouve à droite de la porte d’entrée d’immeuble en bois.
URL:https://a-cube.ch/event/groupe-decoute-geneve-24/
LOCATION:Autisme Genève (F-Versonnex)\, Rue François-Versonnex 15 bis\, Genève\, 1207
CATEGORIES:Genève,Groupes d'écoute
ORGANIZER;CN="G%C3%A9rald":MAILTO:ggrauer@hotmail.com
END:VEVENT
BEGIN:VEVENT
DTSTART;TZID=Europe/Zurich:20241118T180000
DTEND;TZID=Europe/Zurich:20241118T193000
DTSTAMP:20260422T134458
CREATED:20240925T102730Z
LAST-MODIFIED:20240925T102730Z
UID:2365-1731952800-1731958200@a-cube.ch
SUMMARY:Groupe d'écoute Lausanne
DESCRIPTION:Les groupes d’écoutes sont des rencontres entre personnes autistes afin d’échanger sur la différence. Ces groupes d’entraide autogérés sont des groupes de personnes avec autisme qui décident de se réunir pour partager leur expérience et se soutenir.
URL:https://a-cube.ch/event/groupe-decoute-lausanne-9/
LOCATION:Locaux de Bénévolat Vaud\, Av. Louis-Ruchonnet 1\, Lausanne\, 1003\, Suisse
CATEGORIES:Groupes d'écoute,Vaud
END:VEVENT
BEGIN:VEVENT
DTSTART;TZID=Europe/Zurich:20241123T160000
DTEND;TZID=Europe/Zurich:20241123T173000
DTSTAMP:20260422T134458
CREATED:20240925T081802Z
LAST-MODIFIED:20240925T081802Z
UID:2363-1732377600-1732383000@a-cube.ch
SUMMARY:Groupe d'écoute Genève
DESCRIPTION:Les groupes d’écoutes sont des rencontres entre personnes autistes afin d’échanger sur la différence. Ces groupes d’entraide autogérés sont des groupes de personnes avec autisme qui décident de se réunir pour partager leur expérience et se soutenir. \nAccès à Autisme Genève: avancez dans la cour au No 15. En face de vous\, entrez par la porte en verre qui se trouve à droite de la porte d’entrée d’immeuble en bois.
URL:https://a-cube.ch/event/groupe-decoute-geneve-25/
LOCATION:Autisme Genève (F-Versonnex)\, Rue François-Versonnex 15 bis\, Genève\, 1207
CATEGORIES:Genève,Groupes d'écoute
ORGANIZER;CN="G%C3%A9rald":MAILTO:ggrauer@hotmail.com
END:VEVENT
END:VCALENDAR